BEGIN:VCALENDAR
VERSION:2.0
CALSCALE:GREGORIAN
PRODID:adamgibbons/ics
METHOD:PUBLISH
X-PUBLISHED-TTL:PT1H
BEGIN:VEVENT
UID:151@burgos.convoca.la
SUMMARY:Laboratorio de Creación Audiovisual
DTSTAMP:20260419T203114Z
DTSTART:20260420T170000Z
DESCRIPTION:TALLER\n\nDEPROCESO\n\nHIPERTELIA\, LACRAV & SONORA TANGENTE\n\
	n20 de abril\, lunes\, 19:00h.\n\nLugar: Laboratorio de Creación Audiovisu
	al. Inscripción previa.\n\nEspacio Tangente abre un nuevo taller\, el Labo
	ratorio de Creación Audiovisual\n(LACRAV)\, un espacio dedicado a la produ
	cción de contenidos audiovisuales\,\ngrabación y edición de audio\, acondi
	cionado para impartir talleres y realizar\nencuentros creativos e intercam
	bios pedagógicos sobre arte y tecnología.\n\nDEPROCESO Una serie de encuen
	tros en el LACRAV para deshacer y compartir\ntécnicas y procesos creativos
	. Un lugar para poner en común y debatir sobre las\nformas de trabajo\, co
	n su perspectiva\, su técnica y el desde adentro que\nconstituye a una obr
	a.\n\nEn este encuentro\, “Hipertelia” (Gabi Schubert) abrirá los proyecto
	s de su album\npara guitarra y electrónica “Osamenta” interpretado en DIFR
	ACCIÓN\, explicando\nlos aspectos de diseño sonoro\, técnicas para combina
	r la guitarra y la\nelectrónica (y su interpretación en directo)\, y los e
	lementos textuales y\npoéticos que sostienen el discurso a lo largo del ál
	bum.\n\nInscripcion:\n\nA través de google forms: https://forms.gle/o5QSMM
	JWMr5oKEBx9\n[https://forms.gle/o5QSMMJWMr5oKEBx9]\n\nA través de la págin
	a web de Espacio Tangente:\nhttps://espaciotangente.net/evento/deproceso-l
	acrav-encuentro/\n[https://espaciotangente.net/evento/deproceso-lacrav-enc
	uentro/]\n\nLa actividad será de entrada libre en el laboratorio de creaci
	ón audiovisual\,\ncon inscripción previa y cupo limitado.
URL:https://burgos.convoca.la/event/laboratorio-de-creacion-audiovisual
LOCATION:Espacio Tangente. - C./ Martín Jalón \, 10
STATUS:CONFIRMED
CATEGORIES:
X-ALT-DESC;FMTTYPE=text/html:<p>TALLER</p><p>DEPROCESO</p><p>HIPERTELIA, LA
	CRAV &amp; SONORA TANGENTE</p><p>20 de abril, lunes, 19:00h.  </p><p>Lugar
	: Laboratorio de Creación Audiovisual. Inscripción previa.</p><p>Espacio T
	angente abre un nuevo taller, el Laboratorio de Creación Audiovisual (LACR
	AV), un espacio dedicado a la producción de contenidos audiovisuales, grab
	ación y edición de audio, acondicionado para impartir talleres y realizar 
	encuentros creativos e intercambios pedagógicos sobre arte y tecnología.</
	p><p>DEPROCESO Una serie de encuentros en el LACRAV para deshacer y compar
	tir técnicas y procesos creativos. Un lugar para poner en común y debatir 
	sobre las formas de trabajo, con su perspectiva, su técnica y el desde ade
	ntro que constituye a una obra.</p><p>En este encuentro, “Hipertelia” (Gab
	i Schubert) abrirá los proyectos de su album para guitarra y electrónica “
	Osamenta” interpretado en DIFRACCIÓN, explicando los aspectos de diseño so
	noro, técnicas para combinar la guitarra y la electrónica (y su interpreta
	ción en directo), y los elementos textuales y poéticos que sostienen el di
	scurso a lo largo del álbum.</p><p>Inscripcion: </p><p>A través de google 
	forms: <a target="_blank" href="https://forms.gle/o5QSMMJWMr5oKEBx9">https
	://forms.gle/o5QSMMJWMr5oKEBx9</a></p><p>A través de la página web de Espa
	cio Tangente: <a target="_blank" href="https://espaciotangente.net/evento/
	deproceso-lacrav-encuentro/">https://espaciotangente.net/evento/deproceso-
	lacrav-encuentro/</a> </p><p>La actividad será de entrada libre en el labo
	ratorio de creación audiovisual, con inscripción previa y cupo limitado.</
	p>
BEGIN:VALARM
ACTION:DISPLAY
DESCRIPTION:Laboratorio de Creación Audiovisual
TRIGGER:-PT1H
END:VALARM
END:VEVENT
END:VCALENDAR
