BEGIN:VCALENDAR
VERSION:2.0
CALSCALE:GREGORIAN
PRODID:adamgibbons/ics
METHOD:PUBLISH
X-PUBLISHED-TTL:PT1H
BEGIN:VEVENT
UID:153@burgos.convoca.la
SUMMARY:Concentración por los comedores de los centros de dia
DTSTAMP:20260419T203114Z
DTSTART:20260420T100000Z
DESCRIPTION:Nos cierra los comedores de los centros de día\, concentración 
	frente a la Junta\nde Castilla y León en lunes 20 de abril
URL:https://burgos.convoca.la/event/concentracion-por-los-comedores-de-los-
	centros-de-dia
LOCATION:Frente a Junta de Castilla y León - Glorieta Bilbao
STATUS:CONFIRMED
CATEGORIES:
X-ALT-DESC;FMTTYPE=text/html:<p>Nos cierra los comedores de los centros de 
	día, concentración frente a la Junta de Castilla y León en lunes 20 de abr
	il</p>
BEGIN:VALARM
ACTION:DISPLAY
DESCRIPTION:Concentración por los comedores de los centros de dia
TRIGGER:-PT1H
END:VALARM
END:VEVENT
END:VCALENDAR
